BEGIN:VCALENDAR
VERSION:2.0
PRODID:icalendar-ruby
CALSCALE:GREGORIAN
METHOD:PUBLISH
BEGIN:VEVENT
DTSTAMP:20260424T141316Z
UID:82-1084813@unitedmethodist134.tithelysetup5.com
DTSTART:20260503T171500Z
DTEND:20260503T183000Z
CLASS:PUBLIC
CREATED:20260423T090024
DESCRIPTION:Join us on Sunday\, May 3 for an All Church Conference as we co
 me together to discuss and vote on our proposed building renovation projec
 t. This is an exciting moment in the life of our church as we consider how
  our space can better support our ministry and welcome our community. We h
 ope you’ll be there to be part of the conversation and the decision. All
  members of UMCE are able to vote on this matter.
LAST-MODIFIED:20260423T090024
LOCATION:3757 Ponderosa Drive
SUMMARY:All Church Conference
URL;VALUE=URI:https://evergreenumc.org/events/all-church-conference/2026-05
 -03
ATTACH;FILENAME=CC-Logo.png;FMTTYPE=image/png:https://dq5pwpg1q8ru0.cloudfr
 ont.net/2026/04/23/15/00/04/62c01cb6-c053-4fcf-bc42-db9048b59608/CC-Logo.p
 ng
END:VEVENT
END:VCALENDAR
